BEGIN:VCALENDAR
VERSION:2.0
CALSCALE:GREGORIAN
PRODID:-//Diputació de Barcelona//DibaCMS//EN
BEGIN:VEVENT
UID:3083
DTSTAMP:20260420T043651
DTSTART:20260501T000000
DTEND:20260503T000000
SUMMARY:FESTA MAJOR DE CAMPS
LOCATION:
METHOD:PUBLISH
X-WR-CALNAME:fonollosa@fonollosa.cat
X-WR-TIMEZONE:Europe/Madrid
DESCRIPTION:
URI:https://www.fonollosa.cat/actualitat-i-noticies/agenda-dactivitats/3083-festa-major-de-camps.html
CLASS:PUBLIC
END:VEVENT
END:VCALENDAR
