BEGIN:VCALENDAR
VERSION:2.0
CALSCALE:GREGORIAN
PRODID:-//Diputació de Barcelona//DibaCMS//EN
BEGIN:VEVENT
UID:3081
DTSTAMP:20260420T044108
DTSTART:20260427T163000
DTEND:20260427T163000
SUMMARY:XERRADA: LÍMITS I REBEQUERIES
LOCATION:Llar d'Infants Rexics 
METHOD:PUBLISH
X-WR-CALNAME:fonollosa@fonollosa.cat
X-WR-TIMEZONE:Europe/Madrid
DESCRIPTION:Organitza: AFA Llar d'infants Rexics

Inscripcions al següent enllaç: Formulari d'inscripció a la xerrada "Límits i Rebequeries"

 

URI:https://www.fonollosa.cat/actualitat-i-noticies/agenda-dactivitats/xerrada-limits-i-rebequeries.html
CLASS:PUBLIC
END:VEVENT
END:VCALENDAR
