BEGIN:VCALENDAR
VERSION:2.0
CALSCALE:GREGORIAN
PRODID:-//Diputació de Barcelona//DibaCMS//EN
BEGIN:VEVENT
UID:1696
DTSTAMP:20260421T105821
DTSTART:20210620T193000
DTEND:20210620T203000
SUMMARY:Acte de lliurament dels Segons Guardons de Fonollosa
LOCATION:Al pati de l'escola de Fonollosa 
METHOD:PUBLISH
X-WR-CALNAME:fonollosa@fonollosa.cat
X-WR-TIMEZONE:Europe/Madrid
DESCRIPTION:El diumenge dia 20 de juny a 2/4 de 8 del vespre se celebrarà l'acte de lliurament dels segons Guardons Pobles de Fonollosa.

Els guardonats són:


	GUARDÓ CULTURA I ASSOCIACIONISME 2019-20: Maria Navarrete i Fa
	GUARDÓ D'ESPORT 2019-20: Carles Calavera i Grau
	GUARDÓ D'HONOR 2019-20 Ex aequo: Agustí Lleyda i Basiana i Imma Cortina i Grau
	RECONEIXEMENT 2019-20 AL MÈRIT ACADÈMIC: Ramon Miquel i Grau


 

URI:https://www.fonollosa.cat/actualitat-i-noticies/agenda-dactivitats/acte-de-lliurament-dels-segons-guardons-de-fonollosa.html
CLASS:PUBLIC
END:VEVENT
END:VCALENDAR
