BEGIN:VCALENDAR
VERSION:2.0
CALSCALE:GREGORIAN
PRODID:-//Diputació de Barcelona//DibaCMS//EN
BEGIN:VEVENT
UID:1372
DTSTAMP:20260423T063048
DTSTART:20200824T084500
DTEND:20200828T131500
SUMMARY:CAMPUS PERFECCIONAMENT BTT
LOCATION:Zona esportiva Fals 
METHOD:PUBLISH
X-WR-CALNAME:fonollosa@fonollosa.cat
X-WR-TIMEZONE:Europe/Madrid
DESCRIPTION:Tècnica, Mecànica i Hàbits saludables.

URI:https://www.fonollosa.cat/actualitat-i-noticies/agenda-dactivitats/campus-perfeccionament-btt.html
CLASS:PUBLIC
END:VEVENT
END:VCALENDAR
